BEGIN:VCALENDAR
VERSION:2.0
PRODID:-//Strysles - ECPv5.3.2.1//NONSGML v1.0//EN
CALSCALE:GREGORIAN
METHOD:PUBLISH
X-WR-CALNAME:Strysles
X-ORIGINAL-URL:https://strysles.lu
X-WR-CALDESC:Events for Strysles
BEGIN:VTIMEZONE
TZID:Europe/Luxembourg
BEGIN:DAYLIGHT
TZOFFSETFROM:+0100
TZOFFSETTO:+0200
TZNAME:CEST
DTSTART:20190331T010000
END:DAYLIGHT
BEGIN:STANDARD
TZOFFSETFROM:+0200
TZOFFSETTO:+0100
TZNAME:CET
DTSTART:20191027T010000
END:STANDARD
END:VTIMEZONE
BEGIN:VEVENT
DTSTART;TZID=Europe/Luxembourg:20190427T161500
DTEND;TZID=Europe/Luxembourg:20190427T173000
DTSTAMP:20210420T195337
CREATED:20190327T114119Z
LAST-MODIFIED:20190327T125448Z
UID:864-1556381700-1556386200@strysles.lu
SUMMARY:Télévie 2019
DESCRIPTION:We are honoured to be part of the Télévie this year. We will be playing a 1 hour set at the Centre de Promesses in Schifflange. Come join us and rock with us for a good cause.
URL:https://strysles.lu/event/televie-2019/
LOCATION:Centre de Promesses Schifflange\, Avenue de la Libération\, Schifflange\, Luxembourg
END:VEVENT
END:VCALENDAR