BEGIN:VCALENDAR
VERSION:2.0
PRODID:-//Strysles - ECPv4.9.9//NONSGML v1.0//EN
CALSCALE:GREGORIAN
METHOD:PUBLISH
X-WR-CALNAME:Strysles
X-ORIGINAL-URL:https://strysles.lu
X-WR-CALDESC:Events for Strysles
BEGIN:VTIMEZONE
TZID:Europe/Luxembourg
BEGIN:DAYLIGHT
TZOFFSETFROM:+0100
TZOFFSETTO:+0200
TZNAME:CEST
DTSTART:20190331T010000
END:DAYLIGHT
BEGIN:STANDARD
TZOFFSETFROM:+0200
TZOFFSETTO:+0100
TZNAME:CET
DTSTART:20191027T010000
END:STANDARD
END:VTIMEZONE
BEGIN:VEVENT
DTSTART;TZID=Europe/Luxembourg:20190615T203500
DTEND;TZID=Europe/Luxembourg:20190615T211500
DTSTAMP:20200812T094903
CREATED:20190506T061946Z
LAST-MODIFIED:20190506T062708Z
UID:950-1560630900-1560633300@strysles.lu
SUMMARY:Fête de la Musique - Dudelange
DESCRIPTION:This year we will be playing the “Why Not Stage” at the “Fête de la Musique” in Dudelange. Come on over and see some of the best bands Luxembourg has to offer in one day. Also we will have Mr Gilles Lanners from the “Michael Shepherd Band” joining us on keyboards again. \n
URL:https://strysles.lu/event/fete-de-la-musique-dudelange/
LOCATION:Fête de la Musique\, Dudelange\, Dudelange\, Luxembourg
END:VEVENT
END:VCALENDAR